BEGIN:VCALENDAR
VERSION:2.0
PRODID:-//Klavierduo - ECPv5.12.3//NONSGML v1.0//EN
CALSCALE:GREGORIAN
METHOD:PUBLISH
X-WR-CALNAME:Klavierduo
X-ORIGINAL-URL:https://klavierduo.net
X-WR-CALDESC:Events for Klavierduo
REFRESH-INTERVAL;VALUE=DURATION:PT1H
X-Robots-Tag:noindex
X-PUBLISHED-TTL:PT1H
BEGIN:VTIMEZONE
TZID:Europe/Berlin
BEGIN:DAYLIGHT
TZOFFSETFROM:+0100
TZOFFSETTO:+0200
TZNAME:CEST
DTSTART:20260329T010000
END:DAYLIGHT
BEGIN:STANDARD
TZOFFSETFROM:+0200
TZOFFSETTO:+0100
TZNAME:CET
DTSTART:20261025T010000
END:STANDARD
BEGIN:DAYLIGHT
TZOFFSETFROM:+0100
TZOFFSETTO:+0200
TZNAME:CEST
DTSTART:20270328T010000
END:DAYLIGHT
BEGIN:STANDARD
TZOFFSETFROM:+0200
TZOFFSETTO:+0100
TZNAME:CET
DTSTART:20271031T010000
END:STANDARD
END:VTIMEZONE
BEGIN:VEVENT
DTSTART;TZID=Europe/Berlin:20260527T193000
DTEND;TZID=Europe/Berlin:20260527T210000
DTSTAMP:20260421T124634
CREATED:20260318T065522Z
LAST-MODIFIED:20260318T143121Z
UID:403-1779910200-1779915600@klavierduo.net
SUMMARY:Carl Orff: Carmina Burana - Öffentliche Generalprobe
DESCRIPTION:Carmina Burana – Öffentliche Generalprobe  \nChor Wien Neubau Ltg. Martin Guthauer \nChor Persephone Ltg. John Alexander Riaño\n Mozart Knabenchor Ltg. Markus Adenstedt \nSopran – Irena Krsteska\n Tenor – Alexander Kaimbacher\n Bariton – Alejandro Pizarro-Enriquez \nPianistinnen – Johanna Gröbner/ Veronika Trisko \nSchlagwerker – Wiener Symphoniker\n Dirigent – Martin Guthauer
URL:https://klavierduo.net/event/oeffentliche-generalprobe-carmina-burana/
LOCATION:Apollosaal\, 1070 Wien\, Apollogasse 21\, 1070 Wien
END:VEVENT
BEGIN:VEVENT
DTSTART;TZID=Europe/Berlin:20260528T200000
DTEND;TZID=Europe/Berlin:20260528T213000
DTSTAMP:20260421T124634
CREATED:20260315T105530Z
LAST-MODIFIED:20260318T143111Z
UID:400-1779998400-1780003800@klavierduo.net
SUMMARY:Carl Orff: Carmina Burana
DESCRIPTION:Carmina Burana\n28. Mai 2026\, 20h Apollo Saal\, 1070 Wien\nChor Wien Neubau Ltg. Martin Guthauer \nChor Persephone Ltg. John Alexander Riaño\n Mozart Knabenchor Ltg. Markus Adenstedt \nSopran – Irena Krsteska\n Tenor – Alexander Kaimbacher\n Bariton – Alejandro Pizarro-Enriquez \nPianistinnen – Johanna Gröbner/ Veronika Trisko \nSchlagwerker – Wiener Symphoniker\n Dirigent – Martin Guthauer
URL:https://klavierduo.net/event/carmina-burana/
LOCATION:Apollosaal\, 1070 Wien\, Apollogasse 21\, 1070 Wien
END:VEVENT
BEGIN:VEVENT
DTSTART;TZID=Europe/Berlin:20270227T110000
DTEND;TZID=Europe/Berlin:20270227T120000
DTSTAMP:20260421T124634
CREATED:20260318T142744Z
LAST-MODIFIED:20260318T142744Z
UID:406-1803726000-1803729600@klavierduo.net
SUMMARY:Musikverein Wien  - Allegretto
DESCRIPTION:P.I. Tchaikovsky: Dornröschen
URL:https://klavierduo.net/event/musikverein-wien-allegretto/
LOCATION:Musikverein Wien
END:VEVENT
BEGIN:VEVENT
DTSTART;TZID=Europe/Berlin:20270227T150000
DTEND;TZID=Europe/Berlin:20270227T160000
DTSTAMP:20260421T124634
CREATED:20260318T142831Z
LAST-MODIFIED:20260318T142848Z
UID:409-1803740400-1803744000@klavierduo.net
SUMMARY:Musikverein Wien - Allegretto
DESCRIPTION:P. I. Tchaikovsky: Dornröschen
URL:https://klavierduo.net/event/musikverein-wien-allegretto-2/
LOCATION:Musikverein Wien
END:VEVENT
BEGIN:VEVENT
DTSTART;TZID=Europe/Berlin:20270228T110000
DTEND;TZID=Europe/Berlin:20270228T120000
DTSTAMP:20260421T124634
CREATED:20260318T142935Z
LAST-MODIFIED:20260318T142935Z
UID:411-1803812400-1803816000@klavierduo.net
SUMMARY:Musikverein Wien - Allegretto
DESCRIPTION:P.I. Tchaikovsky: Dornröschen
URL:https://klavierduo.net/event/musikverein-wien-allegretto-3/
LOCATION:Musikverein Wien
END:VEVENT
BEGIN:VEVENT
DTSTART;TZID=Europe/Berlin:20270228T150000
DTEND;TZID=Europe/Berlin:20270228T160000
DTSTAMP:20260421T124634
CREATED:20260318T143030Z
LAST-MODIFIED:20260318T143030Z
UID:413-1803826800-1803830400@klavierduo.net
SUMMARY:Musikverein Wien - Allegretto
DESCRIPTION:P.I. Tschaikovsky: Dornröschen
URL:https://klavierduo.net/event/musikverein-wien-allegretto-4/
LOCATION:Musikverein Wien
END:VEVENT
END:VCALENDAR